BEGIN:VCALENDAR
VERSION:2.0
PRODID:-//Dynamic Combative Solutions - ECPv6.15.20//NONSGML v1.0//EN
CALSCALE:GREGORIAN
METHOD:PUBLISH
X-ORIGINAL-URL:https://dcs.training
X-WR-CALDESC:Events for Dynamic Combative Solutions
REFRESH-INTERVAL;VALUE=DURATION:PT1H
X-Robots-Tag:noindex
X-PUBLISHED-TTL:PT1H
BEGIN:VTIMEZONE
TZID:America/Phoenix
BEGIN:STANDARD
TZOFFSETFROM:-0700
TZOFFSETTO:-0700
TZNAME:MST
DTSTART:20240101T000000
END:STANDARD
END:VTIMEZONE
BEGIN:VEVENT
DTSTART;TZID=America/Phoenix:20260220T180000
DTEND;TZID=America/Phoenix:20260220T210000
DTSTAMP:20260425T043528
CREATED:20250917T174604Z
LAST-MODIFIED:20260220T174525Z
UID:10000697-1771610400-1771621200@dcs.training
SUMMARY:A Church/School-Focused Study of the Active Shooter Problem & How to Minimize Victims
DESCRIPTION:This presentation is a focused study of the church/School Active Shooter attack\, what responses have saved lives\, and what responses have not.   Churches and Schools in America have been struggling at planning for and responding to the Active Shooter threat for over 40 years.  This struggle is a result of relying on our country’s default response plan and adopting “best practices” that are not best.  All Church/school response plans should be measured by two metrics: what ends the attack (1) the quickest and (2) with the fewest victims.  Presentation topics covered include: the attack & attacker; past failures and lessons-learned; what is most likely to happen in a Church/school Active Shooter attack; how attacks differ between Chruches. elementary\, middle\, and high schools; the importance of TIME & MATH; recommendations on policies\, training\, and structure changes; and the only response plan that gives an expectation of a single-digit victim count. \nThis will be presented by Ed Monk\, \nEd Monk is a police officer\, firearms trainer\, author\, former schoolteacher\, and retired Army officer.  He has researched and provided training on the Active Shooter threat since 2007. He has trained law enforcement agencies\, schools\, churches\, businesses and armed citizens nationwide.  He has been an invited speaker at many international\, national\, and state conferences across the country.  In 2007\, Ed retired from the Army as a lieutenant colonel and battalion commander after 24 years of active-duty in the US\, Europe\, and Iraq. He then taught high school and served as a deputy sheriff in Kentucky. He now serves as a part-time police officer in Arkansas.  Ed has a BS in US History from West Point\, an MS in Adult Education from Kansas State University\, and he is a graduate of the US Army’s Command & General Staff College.  He is author of the book\, First 30 Seconds.
URL:https://dcs.training/event/a-church-school-focused-study-of-the-active-shooter-problem-how-to-minimize-victims/
LOCATION:LWBC\, 3520 E Brown Rd\, Mesa\, AZ\, 85213\, United States
CATEGORIES:Specialty
ORGANIZER;CN="DCS Training":MAILTO:contact@dcs.training
GEO:33.43504;-112.34653
X-APPLE-STRUCTURED-LOCATION;VALUE=URI;X-ADDRESS=LWBC 3520 E Brown Rd Mesa AZ 85213 United States;X-APPLE-RADIUS=500;X-TITLE=3520 E Brown Rd:geo:-112.34653,33.43504
END:VEVENT
BEGIN:VEVENT
DTSTART;TZID=America/Phoenix:20250725T080000
DTEND;TZID=America/Phoenix:20250727T170000
DTSTAMP:20260425T043528
CREATED:20250715T205739Z
LAST-MODIFIED:20250715T205739Z
UID:10000683-1753430400-1753635600@dcs.training
SUMMARY:Orion Group Solo/Duo CQB
DESCRIPTION:Description \n\n\n\n\n\n\nAvailability: 16 Students \nslots Time Commitment: \nThree 8-10 hour days \nCourse Focus: Searching structures solo or with a partner\, while moving opposed (force-on-force) for maximum learning potential. \nPrimary Instructor: \nJason Ransome \nJared Arceneaux \nThis course is principles based and not on any one doctrine of clearance. This course will focus on searching in COMMERCIAL spaces and will take place potentially at more than one location in Phoenix\, so the address is null for a reason. The addresses for training will come out prior to the course date in an informational email. \nStudents will start at the most basic repetition and work up to full structure clearance. Force on paper and force on force. No physical contact between students and role players. No live fire. Students may be role players for FoF runs\, or OTG may bring in other role players depending on course flow. \nPacking List: \n\nAirsoft gas powered glocks and masks/ppe will be provided by the venue. IF you want to bring your own stuff to work with\, you are welcome to do so. Face protection for force on force runs must be rated for the activity or ANSI Z87+.\nClear eye protection for force on paper runs\nPersonal Hydration and Snacks\n\nDisclaimer: \nWe do not offer refunds for courses outside of extreme circumstances. Please ensure that you can actually attend prior to booking.
URL:https://dcs.training/event/orion-group-solo-duo-cqb/
ORGANIZER;CN="DCS Training":MAILTO:contact@dcs.training
END:VEVENT
END:VCALENDAR