BEGIN:VCALENDAR
VERSION:2.0
PRODID:-//Dynamic Combative Solutions - ECPv6.15.20//NONSGML v1.0//EN
CALSCALE:GREGORIAN
METHOD:PUBLISH
X-WR-CALNAME:Dynamic Combative Solutions
X-ORIGINAL-URL:https://dcs.training
X-WR-CALDESC:Events for Dynamic Combative Solutions
REFRESH-INTERVAL;VALUE=DURATION:PT1H
X-Robots-Tag:noindex
X-PUBLISHED-TTL:PT1H
BEGIN:VTIMEZONE
TZID:America/Phoenix
BEGIN:STANDARD
TZOFFSETFROM:-0700
TZOFFSETTO:-0700
TZNAME:MST
DTSTART:20180101T000000
END:STANDARD
END:VTIMEZONE
BEGIN:VEVENT
DTSTART;TZID=America/Phoenix:20191130T080000
DTEND;TZID=America/Phoenix:20191130T140000
DTSTAMP:20260425T063103
CREATED:20191003T185452Z
LAST-MODIFIED:20191129T173729Z
UID:10000059-1575100800-1575122400@dcs.training
SUMMARY:AZ CCW 6hr Class @LWBC
DESCRIPTION:Certified CCW 6 Law and legal: @LWBC \nArizona is one of several states that offer good citizens the ability to carry a concealed weapon. During this 6-hour non-shooting course we will review the basic components of legal Concealed Carry Weapons\, mental awareness\, interactions with law enforcement and how to properly plan for before and after a self-defense conflict. All necessary paperwork will be provided and your application and fingerprint cards will be completed during class. Following the completion of the course you will be able to submit your completed packet to DPS for a Concealed Weapons Permit issued by the Arizona Department of Public Safety. \nClass Prerequisites: \nProper Photo I.D.  This is not a shooting course. \nPositive attitude and participation \nCourse tuition is $50.00
URL:https://dcs.training/event/az-ccw-6hr-class-2-2-4-2-2-2-2-4/
LOCATION:LWBC\, 3520 E Brown Rd\, Mesa\, AZ\, 85213\, United States
CATEGORIES:CCW,DCS Courses
GEO:33.43504;-112.34653
X-APPLE-STRUCTURED-LOCATION;VALUE=URI;X-ADDRESS=LWBC 3520 E Brown Rd Mesa AZ 85213 United States;X-APPLE-RADIUS=500;X-TITLE=3520 E Brown Rd:geo:-112.34653,33.43504
END:VEVENT
BEGIN:VEVENT
DTSTART;TZID=America/Phoenix:20191123T080000
DTEND;TZID=America/Phoenix:20191123T140000
DTSTAMP:20260425T063103
CREATED:20191003T192452Z
LAST-MODIFIED:20191003T192452Z
UID:10000049-1574496000-1574517600@dcs.training
SUMMARY:AZ CCW 6hr Class @LWBC
DESCRIPTION:Certified CCW 6 Law and legal: @LWBC \nArizona is one of several states that offer good citizens the ability to carry a concealed weapon. During this 6-hour non-shooting course we will review the basic components of legal Concealed Carry Weapons\, mental awareness\, interactions with law enforcement and how to properly plan for before and after a self-defense conflict. All necessary paperwork will be provided and your application and fingerprint cards will be completed during class. Following the completion of the course you will be able to submit your completed packet to DPS for a Concealed Weapons Permit issued by the Arizona Department of Public Safety. \nClass Prerequisites: \nProper Photo I.D.  This is not a shooting course. \nPositive attitude and participation \nCourse tuition is $50.00
URL:https://dcs.training/event/az-ccw-6hr-class-2-2-4-2-2-2-2-4-2/
LOCATION:LWBC\, 3520 E Brown Rd\, Mesa\, AZ\, 85213\, United States
CATEGORIES:CCW,DCS Courses
GEO:33.43504;-112.34653
X-APPLE-STRUCTURED-LOCATION;VALUE=URI;X-ADDRESS=LWBC 3520 E Brown Rd Mesa AZ 85213 United States;X-APPLE-RADIUS=500;X-TITLE=3520 E Brown Rd:geo:-112.34653,33.43504
END:VEVENT
BEGIN:VEVENT
DTSTART;TZID=America/Phoenix:20191116T080000
DTEND;TZID=America/Phoenix:20191116T140000
DTSTAMP:20260425T063103
CREATED:20191003T182508Z
LAST-MODIFIED:20191114T234156Z
UID:10000061-1573891200-1573912800@dcs.training
SUMMARY:AZ CCW 6hr Class @LWBC
DESCRIPTION:Certified CCW 6 Law and legal: @LWBC \nArizona is one of several states that offer good citizens the ability to carry a concealed weapon. During this 6-hour non-shooting course we will review the basic components of legal Concealed Carry Weapons\, mental awareness\, interactions with law enforcement and how to properly plan for before and after a self-defense conflict. All necessary paperwork will be provided and your application and fingerprint cards will be completed during class. Following the completion of the course you will be able to submit your completed packet to DPS for a Concealed Weapons Permit issued by the Arizona Department of Public Safety. \nClass Prerequisites: \nProper Photo I.D.  This is not a shooting course. \nPositive attitude and participation \nCourse tuition is $50.00
URL:https://dcs.training/event/az-ccw-6hr-class-2-2-4-2-2-2-2-3/
LOCATION:LWBC\, 3520 E Brown Rd\, Mesa\, AZ\, 85213\, United States
CATEGORIES:CCW,DCS Courses
GEO:33.43504;-112.34653
X-APPLE-STRUCTURED-LOCATION;VALUE=URI;X-ADDRESS=LWBC 3520 E Brown Rd Mesa AZ 85213 United States;X-APPLE-RADIUS=500;X-TITLE=3520 E Brown Rd:geo:-112.34653,33.43504
END:VEVENT
BEGIN:VEVENT
DTSTART;TZID=America/Phoenix:20191109T080000
DTEND;TZID=America/Phoenix:20191109T140000
DTSTAMP:20260425T063103
CREATED:20191003T182247Z
LAST-MODIFIED:20191106T191420Z
UID:10000063-1573286400-1573308000@dcs.training
SUMMARY:AZ CCW 6hr Class @LWBC
DESCRIPTION:Certified CCW 6 Law and legal: @LWBC \nArizona is one of several states that offer good citizens the ability to carry a concealed weapon. During this 6-hour non-shooting course we will review the basic components of legal Concealed Carry Weapons\, mental awareness\, interactions with law enforcement and how to properly plan for before and after a self-defense conflict. All necessary paperwork will be provided and your application and fingerprint cards will be completed during class. Following the completion of the course you will be able to submit your completed packet to DPS for a Concealed Weapons Permit issued by the Arizona Department of Public Safety. \nClass Prerequisites: \nProper Photo I.D.  This is not a shooting course. \nPositive attitude and participation \nCourse tuition is $50.00
URL:https://dcs.training/event/az-ccw-6hr-class-2-2-4-2-2-2-2-2/
LOCATION:LWBC\, 3520 E Brown Rd\, Mesa\, AZ\, 85213\, United States
CATEGORIES:CCW,DCS Courses
GEO:33.43504;-112.34653
X-APPLE-STRUCTURED-LOCATION;VALUE=URI;X-ADDRESS=LWBC 3520 E Brown Rd Mesa AZ 85213 United States;X-APPLE-RADIUS=500;X-TITLE=3520 E Brown Rd:geo:-112.34653,33.43504
END:VEVENT
BEGIN:VEVENT
DTSTART;TZID=America/Phoenix:20191102T080000
DTEND;TZID=America/Phoenix:20191102T140000
DTSTAMP:20260425T063103
CREATED:20191003T182007Z
LAST-MODIFIED:20191030T200721Z
UID:10000066-1572681600-1572703200@dcs.training
SUMMARY:AZ CCW 6hr Class @LWBC
DESCRIPTION:Certified CCW 6 Law and legal: @LWBC \nArizona is one of several states that offer good citizens the ability to carry a concealed weapon. During this 6-hour non-shooting course we will review the basic components of legal Concealed Carry Weapons\, mental awareness\, interactions with law enforcement and how to properly plan for before and after a self-defense conflict. All necessary paperwork will be provided and your application and fingerprint cards will be completed during class. Following the completion of the course you will be able to submit your completed packet to DPS for a Concealed Weapons Permit issued by the Arizona Department of Public Safety. \nClass Prerequisites: \nProper Photo I.D.  This is not a shooting course. \nPositive attitude and participation \nCourse tuition is $50.00
URL:https://dcs.training/event/az-ccw-6hr-class-2-2-4-2-2-2-2/
LOCATION:LWBC\, 3520 E Brown Rd\, Mesa\, AZ\, 85213\, United States
CATEGORIES:CCW,DCS Courses
GEO:33.43504;-112.34653
X-APPLE-STRUCTURED-LOCATION;VALUE=URI;X-ADDRESS=LWBC 3520 E Brown Rd Mesa AZ 85213 United States;X-APPLE-RADIUS=500;X-TITLE=3520 E Brown Rd:geo:-112.34653,33.43504
END:VEVENT
BEGIN:VEVENT
DTSTART;TZID=America/Phoenix:20191026T080000
DTEND;TZID=America/Phoenix:20191026T140000
DTSTAMP:20260425T063103
CREATED:20191003T181731Z
LAST-MODIFIED:20191003T181731Z
UID:10000068-1572076800-1572098400@dcs.training
SUMMARY:AZ CCW 6hr Class @LWBC
DESCRIPTION:Certified CCW 6 Law and legal: @LWBC \nArizona is one of several states that offer good citizens the ability to carry a concealed weapon. During this 6-hour non-shooting course we will review the basic components of legal Concealed Carry Weapons\, mental awareness\, interactions with law enforcement and how to properly plan for before and after a self-defense conflict. All necessary paperwork will be provided and your application and fingerprint cards will be completed during class. Following the completion of the course you will be able to submit your completed packet to DPS for a Concealed Weapons Permit issued by the Arizona Department of Public Safety. \nClass Prerequisites: \nProper Photo I.D.  This is not a shooting course. \nPositive attitude and participation \nCourse tuition is $50.00
URL:https://dcs.training/event/az-ccw-6hr-class-2-2-4-2-2-2/
LOCATION:LWBC\, 3520 E Brown Rd\, Mesa\, AZ\, 85213\, United States
CATEGORIES:CCW,DCS Courses
GEO:33.43504;-112.34653
X-APPLE-STRUCTURED-LOCATION;VALUE=URI;X-ADDRESS=LWBC 3520 E Brown Rd Mesa AZ 85213 United States;X-APPLE-RADIUS=500;X-TITLE=3520 E Brown Rd:geo:-112.34653,33.43504
END:VEVENT
BEGIN:VEVENT
DTSTART;TZID=America/Phoenix:20191019T080000
DTEND;TZID=America/Phoenix:20191019T140000
DTSTAMP:20260425T063103
CREATED:20191003T175331Z
LAST-MODIFIED:20191016T235840Z
UID:10000070-1571472000-1571493600@dcs.training
SUMMARY:AZ CCW 6hr Class @LWBC
DESCRIPTION:Certified CCW 6 Law and legal: @LWBC \nArizona is one of several states that offer good citizens the ability to carry a concealed weapon. During this 6-hour non-shooting course we will review the basic components of legal Concealed Carry Weapons\, mental awareness\, interactions with law enforcement and how to properly plan for before and after a self-defense conflict. All necessary paperwork will be provided and your application and fingerprint cards will be completed during class. Following the completion of the course you will be able to submit your completed packet to DPS for a Concealed Weapons Permit issued by the Arizona Department of Public Safety. \nClass Prerequisites: \nProper Photo I.D.  This is not a shooting course. \nPositive attitude and participation \nCourse tuition is $50.00
URL:https://dcs.training/event/az-ccw-6hr-class-2-2-4-2-2/
LOCATION:LWBC\, 3520 E Brown Rd\, Mesa\, AZ\, 85213\, United States
CATEGORIES:CCW,DCS Courses
GEO:33.43504;-112.34653
X-APPLE-STRUCTURED-LOCATION;VALUE=URI;X-ADDRESS=LWBC 3520 E Brown Rd Mesa AZ 85213 United States;X-APPLE-RADIUS=500;X-TITLE=3520 E Brown Rd:geo:-112.34653,33.43504
END:VEVENT
BEGIN:VEVENT
DTSTART;TZID=America/Phoenix:20191005T080000
DTEND;TZID=America/Phoenix:20191005T140000
DTSTAMP:20260425T063103
CREATED:20190906T012945Z
LAST-MODIFIED:20191004T231440Z
UID:10000072-1570262400-1570284000@dcs.training
SUMMARY:AZ CCW 6hr Class @LWBC
DESCRIPTION:Certified CCW 6 Law and legal: @LWBC \nArizona is one of several states that offer good citizens the ability to carry a concealed weapon. During this 6-hour non-shooting course we will review the basic components of legal Concealed Carry Weapons\, mental awareness\, interactions with law enforcement and how to properly plan for before and after a self-defense conflict. All necessary paperwork will be provided and your application and fingerprint cards will be completed during class. Following the completion of the course you will be able to submit your completed packet to DPS for a Concealed Weapons Permit issued by the Arizona Department of Public Safety. \nInstructors: All instructors for this course are required to have NRA Certification and/ or have prior Military\, Law Enforcement or competitive shooting backgrounds. \nClass Prerequisites: \nProper Photo I.D.  This is not a shooting course. \nPositive attitude and participation \nCourse tuition is $50.00
URL:https://dcs.training/event/az-ccw-6hr-class-2-2-4-2/
LOCATION:LWBC\, 3520 E Brown Rd\, Mesa\, AZ\, 85213\, United States
CATEGORIES:CCW,DCS Courses
GEO:33.43504;-112.34653
X-APPLE-STRUCTURED-LOCATION;VALUE=URI;X-ADDRESS=LWBC 3520 E Brown Rd Mesa AZ 85213 United States;X-APPLE-RADIUS=500;X-TITLE=3520 E Brown Rd:geo:-112.34653,33.43504
END:VEVENT
BEGIN:VEVENT
DTSTART;TZID=America/Phoenix:20190928T080000
DTEND;TZID=America/Phoenix:20190928T140000
DTSTAMP:20260425T063103
CREATED:20190809T015219Z
LAST-MODIFIED:20190918T013928Z
UID:10000095-1569657600-1569679200@dcs.training
SUMMARY:AZ CCW 6hr Class @LWBC
DESCRIPTION:Certified CCW 6 Law and legal: @LWBC \nArizona is one of several states that offer good citizens the ability to carry a concealed weapon. During this 6-hour non-shooting course we will review the basic components of legal Concealed Carry Weapons\, mental awareness\, interactions with law enforcement and how to properly plan for before and after a self-defense conflict. All necessary paperwork will be provided and your application and fingerprint cards will be completed during class. Following the completion of the course you will be able to submit your completed packet to DPS for a Concealed Weapons Permit issued by the Arizona Department of Public Safety. \nInstructors: All instructors for this course are required to have NRA Certification and/ or have prior Military\, Law Enforcement or competitive shooting backgrounds. \nClass Prerequisites: \nProper Photo I.D.  This is not a shooting course. \nPositive attitude and participation \nCourse tuition is $50.00
URL:https://dcs.training/event/az-ccw-6hr-class-2-2-4/
LOCATION:LWBC\, 3520 E Brown Rd\, Mesa\, AZ\, 85213\, United States
CATEGORIES:CCW,DCS Courses
GEO:33.43504;-112.34653
X-APPLE-STRUCTURED-LOCATION;VALUE=URI;X-ADDRESS=LWBC 3520 E Brown Rd Mesa AZ 85213 United States;X-APPLE-RADIUS=500;X-TITLE=3520 E Brown Rd:geo:-112.34653,33.43504
END:VEVENT
BEGIN:VEVENT
DTSTART;TZID=America/Phoenix:20190921T080000
DTEND;TZID=America/Phoenix:20190921T140000
DTSTAMP:20260425T063103
CREATED:20190809T015012Z
LAST-MODIFIED:20190918T013451Z
UID:10000096-1569052800-1569074400@dcs.training
SUMMARY:AZ CCW 6hr Class @LWBC
DESCRIPTION:Certified CCW 6 Law and legal: @LWBC \nArizona is one of several states that offer good citizens the ability to carry a concealed weapon. During this 6-hour non-shooting course we will review the basic components of legal Concealed Carry Weapons\, mental awareness\, interactions with law enforcement and how to properly plan for before and after a self-defense conflict. All necessary paperwork will be provided and your application and fingerprint cards will be completed during class. Following the completion of the course you will be able to submit your completed packet to DPS for a Concealed Weapons Permit issued by the Arizona Department of Public Safety. \nInstructors: All instructors for this course are required to have NRA Certification and/ or have prior Military\, Law Enforcement or competitive shooting backgrounds. \nClass Prerequisites: \nProper Photo I.D.  This is not a shooting course. \nPositive attitude and participation \nCourse tuition is $50.00
URL:https://dcs.training/event/az-ccw-6hr-class-2-2-3/
LOCATION:LWBC\, 3520 E Brown Rd\, Mesa\, AZ\, 85213\, United States
CATEGORIES:CCW,DCS Courses
GEO:33.43504;-112.34653
X-APPLE-STRUCTURED-LOCATION;VALUE=URI;X-ADDRESS=LWBC 3520 E Brown Rd Mesa AZ 85213 United States;X-APPLE-RADIUS=500;X-TITLE=3520 E Brown Rd:geo:-112.34653,33.43504
END:VEVENT
BEGIN:VEVENT
DTSTART;TZID=America/Phoenix:20190914T080000
DTEND;TZID=America/Phoenix:20190914T140000
DTSTAMP:20260425T063103
CREATED:20190809T014734Z
LAST-MODIFIED:20190913T002246Z
UID:10000033-1568448000-1568469600@dcs.training
SUMMARY:AZ CCW 6hr Class @LWBC
DESCRIPTION:Certified CCW 6 Law and legal: @LWBC \nArizona is one of several states that offer good citizens the ability to carry a concealed weapon. During this 6-hour non-shooting course we will review the basic components of legal Concealed Carry Weapons\, mental awareness\, interactions with law enforcement and how to properly plan for before and after a self-defense conflict. All necessary paperwork will be provided and your application and fingerprint cards will be completed during class. Following the completion of the course you will be able to submit your completed packet to DPS for a Concealed Weapons Permit issued by the Arizona Department of Public Safety. \nInstructors: All instructors for this course are required to have NRA Certification and/ or have prior Military\, Law Enforcement or competitive shooting backgrounds. \nClass Prerequisites: \nProper Photo I.D.  This is not a shooting course. \nPositive attitude and participation \nCourse tuition is $60.00
URL:https://dcs.training/event/az-ccw-6hr-class-2-2-2/
LOCATION:LWBC\, 3520 E Brown Rd\, Mesa\, AZ\, 85213\, United States
CATEGORIES:CCW,DCS Courses
GEO:33.43504;-112.34653
X-APPLE-STRUCTURED-LOCATION;VALUE=URI;X-ADDRESS=LWBC 3520 E Brown Rd Mesa AZ 85213 United States;X-APPLE-RADIUS=500;X-TITLE=3520 E Brown Rd:geo:-112.34653,33.43504
END:VEVENT
BEGIN:VEVENT
DTSTART;TZID=America/Phoenix:20190907T080000
DTEND;TZID=America/Phoenix:20190907T140000
DTSTAMP:20260425T063103
CREATED:20190808T150426Z
LAST-MODIFIED:20190826T174023Z
UID:10000025-1567843200-1567864800@dcs.training
SUMMARY:AZ CCW 6hr Class @LWBC
DESCRIPTION:Certified CCW 6 Law and legal: @LWBC \nArizona is one of several states that offer good citizens the ability to carry a concealed weapon. During this 6-hour non-shooting course we will review the basic components of legal Concealed Carry Weapons\, mental awareness\, interactions with law enforcement and how to properly plan for before and after a self-defense conflict. All necessary paperwork will be provided and your application and fingerprint cards will be completed during class. Following the completion of the course you will be able to submit your completed packet to DPS for a Concealed Weapons Permit issued by the Arizona Department of Public Safety. \nInstructors: All instructors for this course are required to have NRA Certification and/ or have prior Military\, Law Enforcement or competitive shooting backgrounds. \nClass Prerequisites: \nProper Photo I.D.  This is not a shooting course. \nPositive attitude and participation \nCourse tuition is $60.00
URL:https://dcs.training/event/az-ccw-6hr-class-2-2/
LOCATION:LWBC\, 3520 E Brown Rd\, Mesa\, AZ\, 85213\, United States
CATEGORIES:CCW,DCS Courses
GEO:33.43504;-112.34653
X-APPLE-STRUCTURED-LOCATION;VALUE=URI;X-ADDRESS=LWBC 3520 E Brown Rd Mesa AZ 85213 United States;X-APPLE-RADIUS=500;X-TITLE=3520 E Brown Rd:geo:-112.34653,33.43504
END:VEVENT
END:VCALENDAR